BEGIN:VCALENDAR
VERSION:2.0
PRODID:-//OCD Louisiana - ECPv6.15.20//NONSGML v1.0//EN
CALSCALE:GREGORIAN
METHOD:PUBLISH
X-WR-CALNAME:OCD Louisiana
X-ORIGINAL-URL:https://ocdlouisiana.org
X-WR-CALDESC:Events for OCD Louisiana
REFRESH-INTERVAL;VALUE=DURATION:PT1H
X-Robots-Tag:noindex
X-PUBLISHED-TTL:PT1H
BEGIN:VTIMEZONE
TZID:UTC
BEGIN:STANDARD
TZOFFSETFROM:+0000
TZOFFSETTO:+0000
TZNAME:UTC
DTSTART:20180101T000000
END:STANDARD
END:VTIMEZONE
BEGIN:VTIMEZONE
TZID:America/Chicago
BEGIN:DAYLIGHT
TZOFFSETFROM:-0600
TZOFFSETTO:-0500
TZNAME:CDT
DTSTART:20180311T080000
END:DAYLIGHT
BEGIN:STANDARD
TZOFFSETFROM:-0500
TZOFFSETTO:-0600
TZNAME:CST
DTSTART:20181104T070000
END:STANDARD
BEGIN:DAYLIGHT
TZOFFSETFROM:-0600
TZOFFSETTO:-0500
TZNAME:CDT
DTSTART:20190310T080000
END:DAYLIGHT
BEGIN:STANDARD
TZOFFSETFROM:-0500
TZOFFSETTO:-0600
TZNAME:CST
DTSTART:20191103T070000
END:STANDARD
BEGIN:DAYLIGHT
TZOFFSETFROM:-0600
TZOFFSETTO:-0500
TZNAME:CDT
DTSTART:20200308T080000
END:DAYLIGHT
BEGIN:STANDARD
TZOFFSETFROM:-0500
TZOFFSETTO:-0600
TZNAME:CST
DTSTART:20201101T070000
END:STANDARD
END:VTIMEZONE
BEGIN:VEVENT
DTSTART;TZID=UTC:20210615T190000
DTEND;TZID=UTC:20210615T200000
DTSTAMP:20260424T033454
CREATED:20210419T151216Z
LAST-MODIFIED:20210419T160139Z
UID:846-1623783600-1623787200@ocdlouisiana.org
SUMMARY:Virtual OCD/OC Spectrum Disorders Consultation Group
DESCRIPTION:This peer consultation group provides an opportunity for mental health practitioners and trainees in our region to discuss cases and learn about relevant resources to provide evidence-based treatment to individuals with OCD and OC Spectrum Disorders.
URL:https://ocdlouisiana.org/event/virtual-ocd-oc-spectrum-disorders-consultation-group-3
END:VEVENT
BEGIN:VEVENT
DTSTART;TZID=UTC:20210518T190000
DTEND;TZID=UTC:20210518T200000
DTSTAMP:20260424T033454
CREATED:20210409T162700Z
LAST-MODIFIED:20210424T060530Z
UID:775-1621364400-1621368000@ocdlouisiana.org
SUMMARY:Virtual OCD/OC Spectrum Disorders Consultation Group
DESCRIPTION:This peer consultation group provides an opportunity for mental health practitioners and trainees in our region to discuss cases and learn about relevant resources to provide evidence-based treatment to individuals with OCD and OC Spectrum Disorders.
URL:https://ocdlouisiana.org/event/virtual-ocd-oc-spectrum-disorders-consultation-group-2
END:VEVENT
BEGIN:VEVENT
DTSTART;TZID=UTC:20210504T000000
DTEND;TZID=UTC:20210504T235900
DTSTAMP:20260424T033454
CREATED:20210420T163646Z
LAST-MODIFIED:20210420T165453Z
UID:911-1620086400-1620172740@ocdlouisiana.org
SUMMARY:Help us meet our fundraising goal for GiveNOLA Day!
DESCRIPTION:OCD Louisiana is excited to be participating in the 8th Annual GiveNOLA Day on Tuesday\, May 4th! GiveNOLA Day\, an initiative of the Greater New Orleans Foundation\, is a 24-hour giving event to benefit nonprofits in the Greater New Orleans region. Early donations are welcome from April 20th through May 3rd. Please consider making a donation so we can bring more services to the OCD community in greater New Orleans and throughout Louisiana!
URL:https://ocdlouisiana.org/event/givenola-day
LOCATION:GiveNOLA Day
ATTACH;FMTTYPE=image/png:https://ocdlouisiana.org/wp-content/uploads/2021/04/Social-Media-Square-1080x1080-Yellow-Equal.png
END:VEVENT
BEGIN:VEVENT
DTSTART;TZID=UTC:20210420T190000
DTEND;TZID=UTC:20210420T200000
DTSTAMP:20260424T033454
CREATED:20210408T163552Z
LAST-MODIFIED:20210412T155622Z
UID:770-1618945200-1618948800@ocdlouisiana.org
SUMMARY:Virtual OCD/OC Spectrum Disorders Consultation Group
DESCRIPTION:This peer consultation group provides an opportunity for mental health practitioners and trainees in our region to discuss cases and learn about relevant resources to provide evidence-based treatment to individuals with OCD and OC Spectrum Disorders.
URL:https://ocdlouisiana.org/event/virtual-ocd-oc-spectrum-disorders-consultation-group
END:VEVENT
BEGIN:VEVENT
DTSTART;TZID=UTC:20191020T090000
DTEND;TZID=UTC:20191020T120000
DTSTAMP:20260424T033454
CREATED:20190914T221635Z
LAST-MODIFIED:20191018T191616Z
UID:257-1571562000-1571572800@ocdlouisiana.org
SUMMARY:1 Million Steps 4 OCD Walk
DESCRIPTION:
URL:https://ocdlouisiana.org/event/1-million-steps-4-ocd-walk
LOCATION:Popp’s Bandstand\, City Park\, 54 Dreyfous Drive\, New Orleans\, Louisiana\, 70119\, United States
ATTACH;FMTTYPE=image/jpeg:https://ocdlouisiana.org/wp-content/uploads/2019/09/Walk-With-Us-Email-Header.jpg
END:VEVENT
BEGIN:VEVENT
DTSTART;VALUE=DATE:20191013
DTEND;VALUE=DATE:20191020
DTSTAMP:20260424T033454
CREATED:20190914T220552Z
LAST-MODIFIED:20190914T220837Z
UID:254-1570924800-1571529599@ocdlouisiana.org
SUMMARY:OCD Awareness Week
DESCRIPTION:
URL:https://ocdlouisiana.org/event/ocd-awareness-week
END:VEVENT
END:VCALENDAR