BEGIN:VCALENDAR
VERSION:2.0
PRODID:-//OCD Louisiana - ECPv6.15.20//NONSGML v1.0//EN
CALSCALE:GREGORIAN
METHOD:PUBLISH
X-ORIGINAL-URL:https://ocdlouisiana.org
X-WR-CALDESC:Events for OCD Louisiana
REFRESH-INTERVAL;VALUE=DURATION:PT1H
X-Robots-Tag:noindex
X-PUBLISHED-TTL:PT1H
BEGIN:VTIMEZONE
TZID:UTC
BEGIN:STANDARD
TZOFFSETFROM:+0000
TZOFFSETTO:+0000
TZNAME:UTC
DTSTART:20180101T000000
END:STANDARD
END:VTIMEZONE
BEGIN:VTIMEZONE
TZID:America/Chicago
BEGIN:DAYLIGHT
TZOFFSETFROM:-0600
TZOFFSETTO:-0500
TZNAME:CDT
DTSTART:20180311T080000
END:DAYLIGHT
BEGIN:STANDARD
TZOFFSETFROM:-0500
TZOFFSETTO:-0600
TZNAME:CST
DTSTART:20181104T070000
END:STANDARD
BEGIN:DAYLIGHT
TZOFFSETFROM:-0600
TZOFFSETTO:-0500
TZNAME:CDT
DTSTART:20190310T080000
END:DAYLIGHT
BEGIN:STANDARD
TZOFFSETFROM:-0500
TZOFFSETTO:-0600
TZNAME:CST
DTSTART:20191103T070000
END:STANDARD
BEGIN:DAYLIGHT
TZOFFSETFROM:-0600
TZOFFSETTO:-0500
TZNAME:CDT
DTSTART:20200308T080000
END:DAYLIGHT
BEGIN:STANDARD
TZOFFSETFROM:-0500
TZOFFSETTO:-0600
TZNAME:CST
DTSTART:20201101T070000
END:STANDARD
END:VTIMEZONE
BEGIN:VEVENT
DTSTART;TZID=UTC:20211221T190000
DTEND;TZID=UTC:20211221T200000
DTSTAMP:20260424T012455
CREATED:20210419T160024Z
LAST-MODIFIED:20210419T160026Z
UID:879-1640113200-1640116800@ocdlouisiana.org
SUMMARY:Virtual OCD/OC Spectrum Disorders Consultation Group
DESCRIPTION:This peer consultation group provides an opportunity for mental health practitioners and trainees in our region to discuss cases and learn about relevant resources to provide evidence-based treatment to individuals with OCD and OC Spectrum Disorders.
URL:https://ocdlouisiana.org/event/virtual-ocd-oc-spectrum-disorders-consultation-group-9
END:VEVENT
BEGIN:VEVENT
DTSTART;TZID=UTC:20211116T190000
DTEND;TZID=UTC:20211116T200000
DTSTAMP:20260424T012455
CREATED:20210419T154529Z
LAST-MODIFIED:20210419T160500Z
UID:869-1637089200-1637092800@ocdlouisiana.org
SUMMARY:Virtual OCD/OC Spectrum Disorders Consultation Group
DESCRIPTION:This peer consultation group provides an opportunity for mental health practitioners and trainees in our region to discuss cases and learn about relevant resources to provide evidence-based treatment to individuals with OCD and OC Spectrum Disorders.
URL:https://ocdlouisiana.org/event/virtual-ocd-oc-spectrum-disorders-consultation-group-8
END:VEVENT
BEGIN:VEVENT
DTSTART;TZID=UTC:20211023T090000
DTEND;TZID=UTC:20211023T090000
DTSTAMP:20260424T012455
CREATED:20210809T210510Z
LAST-MODIFIED:20211003T220423Z
UID:1009-1634979600-1634979600@ocdlouisiana.org
SUMMARY:New Orleans OCD Walk 2021 - *New Date*
DESCRIPTION:Walk with us on Saturday\, October 23rd at LaSalle Park in Metairie to raise awareness for OCD and related disorders! Register for the 1 Million Steps 4 OCD Walk: https://support.iocdf.org/new-orleans. Co-hosted by the International OCD Foundation (IOCDF) and its Local Affiliates\, the 1 Million Steps 4 OCD Walk is the nation’s largest grassroots awareness-building and fundraising campaign to highlight obsessive compulsive disorder (OCD) and related disorders\, including body dysmorphic disorder (BDD)\, hoarding disorder (HD)\, and body-focused repetitive disorders. Funds raised at the walk support the important programs of the International OCD Foundation and its partnering Local Affiliates\, including OCD Louisiana. These programs aim to drive change through advocacy\, education\, research\, and resources that improve the lives of those living with OCD and related disorders. \n\n\n\n\n\nCheck in is @ 9AM in Lasalle Park in Metairie \n\n\n\n2021 OCD Walk T-shirts available at check-in for all children under age 13 and walkers age 13 and up who raise $25 or moreCan’t participate\, but want to help? Consider making a donation on the OCD Louisiana/ New Orleans OCD Walk page (https://support.iocdf.org/new-orleans)
URL:https://ocdlouisiana.org/event/1-million-steps-4-ocd-walk-new-orleans-2021
LOCATION:Lasalle Park\, 6600 Airline Dr\, Metairie\, La\, 70003
ATTACH;FMTTYPE=image/png:https://ocdlouisiana.org/wp-content/uploads/2021/08/NewOrleans.png
END:VEVENT
BEGIN:VEVENT
DTSTART;TZID=UTC:20211019T190000
DTEND;TZID=UTC:20211019T200000
DTSTAMP:20260424T012455
CREATED:20210419T154235Z
LAST-MODIFIED:20210419T160427Z
UID:864-1634670000-1634673600@ocdlouisiana.org
SUMMARY:Virtual OCD/OC Spectrum Disorders Consultation Group
DESCRIPTION:This peer consultation group provides an opportunity for mental health practitioners and trainees in our region to discuss cases and learn about relevant resources to provide evidence-based treatment to individuals with OCD and OC Spectrum Disorders.
URL:https://ocdlouisiana.org/event/virtual-ocd-oc-spectrum-disorders-consultation-group-7
END:VEVENT
BEGIN:VEVENT
DTSTART;TZID=UTC:20211016T130000
DTEND;TZID=UTC:20211016T140000
DTSTAMP:20260424T012455
CREATED:20211003T214304Z
LAST-MODIFIED:20211003T214306Z
UID:1057-1634389200-1634392800@ocdlouisiana.org
SUMMARY:Ask Me Anything with Jon Hershfield\, MFT: An OCD Awareness Week event hosted by OCD Louisiana
DESCRIPTION:Jon Hershfield\, MFT is the director of The Center for OCD and Anxiety at Sheppard Pratt and author of several books on OCD\, including The Mindfulness Workbook for OCD and When a Family Member Has OCD. Join our virtual discussion on Saturday\, October 16th at 1pm CST and bring your questions!
URL:https://ocdlouisiana.org/event/ask-me-anything-with-jon-hershfield-mft-an-ocd-awareness-week-event-hosted-by-ocd-louisiana
ATTACH;FMTTYPE=image/jpeg:https://ocdlouisiana.org/wp-content/uploads/2021/10/square-sml-jonhershfieldpic.jpg
END:VEVENT
BEGIN:VEVENT
DTSTART;TZID=UTC:20211010T000000
DTEND;TZID=UTC:20211016T235959
DTSTAMP:20260424T012455
CREATED:20211004T004942Z
LAST-MODIFIED:20211004T004943Z
UID:1118-1633824000-1634428799@ocdlouisiana.org
SUMMARY:OCD Awareness Week
DESCRIPTION:#OCDWeek began in 2009 to share knowledge and reduce stigma around OCD and related disorders. Each year in October\, community groups\, service organizations\, and clinics around the world celebrate with OCD-inspired educational talks\, art exhibits\, grassroots fundraisers\, and more.
URL:https://ocdlouisiana.org/event/ocd-awareness-week-2
ATTACH;FMTTYPE=image/jpeg:https://ocdlouisiana.org/wp-content/uploads/2021/10/ocd-week-logo-ed-aware.jpg
END:VEVENT
BEGIN:VEVENT
DTSTART;TZID=UTC:20211008T000000
DTEND;TZID=UTC:20211010T235959
DTSTAMP:20260424T012455
CREATED:20211004T005916Z
LAST-MODIFIED:20211004T010541Z
UID:1124-1633651200-1633910399@ocdlouisiana.org
SUMMARY:2021 Online OCD Conference
DESCRIPTION:Registration is open for the 2021 Online OCD Conference! \n\n\n\nJoin the International OCD Foundation (IOCDF) for the largest national conference dedicated to OCD!  \n\n\n\nFeaturing three days of learning and community building for the entire OCD and related disorders community\, including: \n\n\n\nIndividuals with lived experienceFamily members & supportersMental health professionals & researchers\n\n\n\nHighlights include: \n\n\n\n200+ speakers70 talks (available on demand)36 discussion groupsKeynote Mayim Bialik“After Hours” social eventsProfessional networkingCE credits for professionals
URL:https://ocdlouisiana.org/event/2021-online-ocd-conference
ATTACH;FMTTYPE=image/jpeg:https://ocdlouisiana.org/wp-content/uploads/2021/10/2021-Online-OCD-Conference_Social-Square.jpg
END:VEVENT
BEGIN:VEVENT
DTSTART;TZID=UTC:20210921T190000
DTEND;TZID=UTC:20210921T200000
DTSTAMP:20260424T012455
CREATED:20210419T153836Z
LAST-MODIFIED:20210419T160325Z
UID:860-1632250800-1632254400@ocdlouisiana.org
SUMMARY:Virtual OCD/OC Spectrum Disorders Consultation Group
DESCRIPTION:This peer consultation group provides an opportunity for mental health practitioners and trainees in our region to discuss cases and learn about relevant resources to provide evidence-based treatment to individuals with OCD and OC Spectrum Disorders.
URL:https://ocdlouisiana.org/event/virtual-ocd-oc-spectrum-disorders-consultation-group-6
END:VEVENT
BEGIN:VEVENT
DTSTART;TZID=UTC:20210817T190000
DTEND;TZID=UTC:20210817T200000
DTSTAMP:20260424T012455
CREATED:20210419T152819Z
LAST-MODIFIED:20210419T160247Z
UID:852-1629226800-1629230400@ocdlouisiana.org
SUMMARY:Virtual OCD/OC Spectrum Disorders Consultation Group
DESCRIPTION:This peer consultation group provides an opportunity for mental health practitioners and trainees in our region to discuss cases and learn about relevant resources to provide evidence-based treatment to individuals with OCD and OC Spectrum Disorders.
URL:https://ocdlouisiana.org/event/virtual-ocd-oc-spectrum-disorders-consultation-group-4
END:VEVENT
BEGIN:VEVENT
DTSTART;TZID=UTC:20210720T190000
DTEND;TZID=UTC:20210720T200000
DTSTAMP:20260424T012455
CREATED:20210419T153111Z
LAST-MODIFIED:20210419T160234Z
UID:856-1626807600-1626811200@ocdlouisiana.org
SUMMARY:Virtual OCD/OC Spectrum Disorders Consultation Group
DESCRIPTION:This peer consultation group provides an opportunity for mental health practitioners and trainees in our region to discuss cases and learn about relevant resources to provide evidence-based treatment to individuals with OCD and OC Spectrum Disorders.
URL:https://ocdlouisiana.org/event/virtual-ocd-oc-spectrum-disorders-consultation-group-5
END:VEVENT
BEGIN:VEVENT
DTSTART;TZID=UTC:20210615T190000
DTEND;TZID=UTC:20210615T200000
DTSTAMP:20260424T012455
CREATED:20210419T151216Z
LAST-MODIFIED:20210419T160139Z
UID:846-1623783600-1623787200@ocdlouisiana.org
SUMMARY:Virtual OCD/OC Spectrum Disorders Consultation Group
DESCRIPTION:This peer consultation group provides an opportunity for mental health practitioners and trainees in our region to discuss cases and learn about relevant resources to provide evidence-based treatment to individuals with OCD and OC Spectrum Disorders.
URL:https://ocdlouisiana.org/event/virtual-ocd-oc-spectrum-disorders-consultation-group-3
END:VEVENT
BEGIN:VEVENT
DTSTART;TZID=UTC:20210518T190000
DTEND;TZID=UTC:20210518T200000
DTSTAMP:20260424T012455
CREATED:20210409T162700Z
LAST-MODIFIED:20210424T060530Z
UID:775-1621364400-1621368000@ocdlouisiana.org
SUMMARY:Virtual OCD/OC Spectrum Disorders Consultation Group
DESCRIPTION:This peer consultation group provides an opportunity for mental health practitioners and trainees in our region to discuss cases and learn about relevant resources to provide evidence-based treatment to individuals with OCD and OC Spectrum Disorders.
URL:https://ocdlouisiana.org/event/virtual-ocd-oc-spectrum-disorders-consultation-group-2
END:VEVENT
BEGIN:VEVENT
DTSTART;TZID=UTC:20210504T000000
DTEND;TZID=UTC:20210504T235900
DTSTAMP:20260424T012455
CREATED:20210420T163646Z
LAST-MODIFIED:20210420T165453Z
UID:911-1620086400-1620172740@ocdlouisiana.org
SUMMARY:Help us meet our fundraising goal for GiveNOLA Day!
DESCRIPTION:OCD Louisiana is excited to be participating in the 8th Annual GiveNOLA Day on Tuesday\, May 4th! GiveNOLA Day\, an initiative of the Greater New Orleans Foundation\, is a 24-hour giving event to benefit nonprofits in the Greater New Orleans region. Early donations are welcome from April 20th through May 3rd. Please consider making a donation so we can bring more services to the OCD community in greater New Orleans and throughout Louisiana!
URL:https://ocdlouisiana.org/event/givenola-day
LOCATION:GiveNOLA Day
ATTACH;FMTTYPE=image/png:https://ocdlouisiana.org/wp-content/uploads/2021/04/Social-Media-Square-1080x1080-Yellow-Equal.png
END:VEVENT
BEGIN:VEVENT
DTSTART;TZID=UTC:20210420T190000
DTEND;TZID=UTC:20210420T200000
DTSTAMP:20260424T012455
CREATED:20210408T163552Z
LAST-MODIFIED:20210412T155622Z
UID:770-1618945200-1618948800@ocdlouisiana.org
SUMMARY:Virtual OCD/OC Spectrum Disorders Consultation Group
DESCRIPTION:This peer consultation group provides an opportunity for mental health practitioners and trainees in our region to discuss cases and learn about relevant resources to provide evidence-based treatment to individuals with OCD and OC Spectrum Disorders.
URL:https://ocdlouisiana.org/event/virtual-ocd-oc-spectrum-disorders-consultation-group
END:VEVENT
BEGIN:VEVENT
DTSTART;TZID=UTC:20191020T090000
DTEND;TZID=UTC:20191020T120000
DTSTAMP:20260424T012455
CREATED:20190914T221635Z
LAST-MODIFIED:20191018T191616Z
UID:257-1571562000-1571572800@ocdlouisiana.org
SUMMARY:1 Million Steps 4 OCD Walk
DESCRIPTION:
URL:https://ocdlouisiana.org/event/1-million-steps-4-ocd-walk
LOCATION:Popp’s Bandstand\, City Park\, 54 Dreyfous Drive\, New Orleans\, Louisiana\, 70119\, United States
ATTACH;FMTTYPE=image/jpeg:https://ocdlouisiana.org/wp-content/uploads/2019/09/Walk-With-Us-Email-Header.jpg
END:VEVENT
BEGIN:VEVENT
DTSTART;VALUE=DATE:20191013
DTEND;VALUE=DATE:20191020
DTSTAMP:20260424T012455
CREATED:20190914T220552Z
LAST-MODIFIED:20190914T220837Z
UID:254-1570924800-1571529599@ocdlouisiana.org
SUMMARY:OCD Awareness Week
DESCRIPTION:
URL:https://ocdlouisiana.org/event/ocd-awareness-week
END:VEVENT
END:VCALENDAR